BEGIN:VCALENDAR
VERSION:2.0
PRODID:-//Epiclesis - ECPv6.13.2.1//NONSGML v1.0//EN
CALSCALE:GREGORIAN
METHOD:PUBLISH
X-WR-CALNAME:Epiclesis
X-ORIGINAL-URL:https://www.epiclesis.org
X-WR-CALDESC:Events for Epiclesis
REFRESH-INTERVAL;VALUE=DURATION:PT1H
X-Robots-Tag:noindex
X-PUBLISHED-TTL:PT1H
BEGIN:VTIMEZONE
TZID:America/Los_Angeles
BEGIN:DAYLIGHT
TZOFFSETFROM:-0800
TZOFFSETTO:-0700
TZNAME:PDT
DTSTART:20230312T100000
END:DAYLIGHT
BEGIN:STANDARD
TZOFFSETFROM:-0700
TZOFFSETTO:-0800
TZNAME:PST
DTSTART:20231105T090000
END:STANDARD
END:VTIMEZONE
BEGIN:VEVENT
DTSTART;TZID=America/Los_Angeles:20230604T000000
DTEND;TZID=America/Los_Angeles:20230604T000000
DTSTAMP:20260424T025117
CREATED:20230531T221143Z
LAST-MODIFIED:20230531T221143Z
UID:10000271-1685836800-1685836800@www.epiclesis.org
SUMMARY:Trinity Sunday
DESCRIPTION:
URL:https://www.epiclesis.org/event/trinity-sunday/
END:VEVENT
BEGIN:VEVENT
DTSTART;TZID=America/Los_Angeles:20230621T000000
DTEND;TZID=America/Los_Angeles:20230621T000000
DTSTAMP:20260424T025117
CREATED:20230531T221358Z
LAST-MODIFIED:20230531T221358Z
UID:10000284-1687305600-1687305600@www.epiclesis.org
SUMMARY:First Day of Summer
DESCRIPTION:
URL:https://www.epiclesis.org/event/first-day-of-summer/
END:VEVENT
BEGIN:VEVENT
DTSTART;TZID=America/Los_Angeles:20230623T070000
DTEND;TZID=America/Los_Angeles:20230623T070000
DTSTAMP:20260424T025117
CREATED:20230531T221558Z
LAST-MODIFIED:20230531T221558Z
UID:10000286-1687503600-1687503600@www.epiclesis.org
SUMMARY:Women's Retreat
DESCRIPTION:
URL:https://www.epiclesis.org/event/womens-retreat/
END:VEVENT
BEGIN:VEVENT
DTSTART;TZID=America/Los_Angeles:20230624T070000
DTEND;TZID=America/Los_Angeles:20230624T070000
DTSTAMP:20260424T025117
CREATED:20230531T221558Z
LAST-MODIFIED:20230531T221558Z
UID:10000287-1687590000-1687590000@www.epiclesis.org
SUMMARY:Women's Retreat
DESCRIPTION:
URL:https://www.epiclesis.org/event/womens-retreat-2/
END:VEVENT
BEGIN:VEVENT
DTSTART;TZID=America/Los_Angeles:20230625T070000
DTEND;TZID=America/Los_Angeles:20230625T070000
DTSTAMP:20260424T025117
CREATED:20230531T221559Z
LAST-MODIFIED:20230531T221559Z
UID:10000289-1687676400-1687676400@www.epiclesis.org
SUMMARY:Women's Retreat
DESCRIPTION:
URL:https://www.epiclesis.org/event/womens-retreat-3/
END:VEVENT
END:VCALENDAR